BEGIN:VCALENDAR
VERSION:2.0
PRODID:-//Di&oacute;cesis Apartad&oacute; - ECPv6.15.19//NONSGML v1.0//EN
CALSCALE:GREGORIAN
METHOD:PUBLISH
X-ORIGINAL-URL:https://diocesisdeapartado.org
X-WR-CALDESC:Eventos para Di&oacute;cesis Apartad&oacute;
REFRESH-INTERVAL;VALUE=DURATION:PT1H
X-Robots-Tag:noindex
X-PUBLISHED-TTL:PT1H
BEGIN:VTIMEZONE
TZID:America/Bogota
BEGIN:STANDARD
TZOFFSETFROM:-0500
TZOFFSETTO:-0500
TZNAME:-05
DTSTART:20230101T000000
END:STANDARD
END:VTIMEZONE
BEGIN:VEVENT
DTSTART;VALUE=DATE:20240504
DTEND;VALUE=DATE:20240505
DTSTAMP:20260424T220503
CREATED:20240415T162424Z
LAST-MODIFIED:20240415T162424Z
UID:254016-1714780800-1714867199@diocesisdeapartado.org
SUMMARY:Sábado. 5° Semana de Pascua
DESCRIPTION:
URL:https://diocesisdeapartado.org/eventos/sabado-5-semana-de-pascua/
END:VEVENT
BEGIN:VEVENT
DTSTART;VALUE=DATE:20240504
DTEND;VALUE=DATE:20240505
DTSTAMP:20260424T220503
CREATED:20240429T142115Z
LAST-MODIFIED:20240429T142115Z
UID:254142-1714780800-1714867199@diocesisdeapartado.org
SUMMARY:Santo del Día | Antonina de Nicea
DESCRIPTION:
URL:https://diocesisdeapartado.org/eventos/santo-del-dia-antonina-de-nicea/
END:VEVENT
END:VCALENDAR