BEGIN:VCALENDAR
VERSION:2.0
PRODID:-//Di&oacute;cesis Apartad&oacute; - ECPv6.15.19//NONSGML v1.0//EN
CALSCALE:GREGORIAN
METHOD:PUBLISH
X-ORIGINAL-URL:https://diocesisdeapartado.org
X-WR-CALDESC:Eventos para Di&oacute;cesis Apartad&oacute;
REFRESH-INTERVAL;VALUE=DURATION:PT1H
X-Robots-Tag:noindex
X-PUBLISHED-TTL:PT1H
BEGIN:VTIMEZONE
TZID:America/Bogota
BEGIN:STANDARD
TZOFFSETFROM:-0500
TZOFFSETTO:-0500
TZNAME:-05
DTSTART:20230101T000000
END:STANDARD
END:VTIMEZONE
BEGIN:VEVENT
DTSTART;VALUE=DATE:20240516
DTEND;VALUE=DATE:20240517
DTSTAMP:20260424T220519
CREATED:20240415T163707Z
LAST-MODIFIED:20240415T163707Z
UID:254044-1715817600-1715903999@diocesisdeapartado.org
SUMMARY:Jueves. 7° Semana de Pascua
DESCRIPTION:
URL:https://diocesisdeapartado.org/eventos/jueves-7-semana-de-pascua/
END:VEVENT
BEGIN:VEVENT
DTSTART;VALUE=DATE:20240516
DTEND;VALUE=DATE:20240517
DTSTAMP:20260424T220519
CREATED:20240429T143636Z
LAST-MODIFIED:20240429T143636Z
UID:254166-1715817600-1715903999@diocesisdeapartado.org
SUMMARY:Santo del Día | Ubaldo de Gubbio
DESCRIPTION:
URL:https://diocesisdeapartado.org/eventos/santo-del-dia-ubaldo-de-gubbio/
END:VEVENT
END:VCALENDAR