BEGIN:VCALENDAR
VERSION:2.0
PRODID:-//Di&oacute;cesis Apartad&oacute; - ECPv6.15.19//NONSGML v1.0//EN
CALSCALE:GREGORIAN
METHOD:PUBLISH
X-WR-CALNAME:Di&oacute;cesis Apartad&oacute;
X-ORIGINAL-URL:https://diocesisdeapartado.org
X-WR-CALDESC:Eventos para Di&oacute;cesis Apartad&oacute;
REFRESH-INTERVAL;VALUE=DURATION:PT1H
X-Robots-Tag:noindex
X-PUBLISHED-TTL:PT1H
BEGIN:VTIMEZONE
TZID:America/Bogota
BEGIN:STANDARD
TZOFFSETFROM:-0500
TZOFFSETTO:-0500
TZNAME:-05
DTSTART:20230101T000000
END:STANDARD
END:VTIMEZONE
BEGIN:VEVENT
DTSTART;VALUE=DATE:20240527
DTEND;VALUE=DATE:20240528
DTSTAMP:20260424T220820
CREATED:20240429T145013Z
LAST-MODIFIED:20240429T145013Z
UID:254188-1716768000-1716854399@diocesisdeapartado.org
SUMMARY:Santo del Día | Agustín de Canterbury
DESCRIPTION:
URL:https://diocesisdeapartado.org/eventos/santo-del-dia-agustin-de-canterbury/
END:VEVENT
BEGIN:VEVENT
DTSTART;VALUE=DATE:20240527
DTEND;VALUE=DATE:20240528
DTSTAMP:20260424T220820
CREATED:20240527T215418Z
LAST-MODIFIED:20240527T215418Z
UID:254297-1716768000-1716854399@diocesisdeapartado.org
SUMMARY:Lunes. 8° Semana del Tiempo Ordinario
DESCRIPTION:
URL:https://diocesisdeapartado.org/eventos/lunes-8-semana-del-tiempo-ordinario/
END:VEVENT
BEGIN:VEVENT
DTSTART;VALUE=DATE:20240528
DTEND;VALUE=DATE:20240529
DTSTAMP:20260424T220820
CREATED:20240429T145107Z
LAST-MODIFIED:20240429T145107Z
UID:254191-1716854400-1716940799@diocesisdeapartado.org
SUMMARY:Santo del Día | Germán de París
DESCRIPTION:
URL:https://diocesisdeapartado.org/eventos/santo-del-dia-german-de-paris/
END:VEVENT
BEGIN:VEVENT
DTSTART;VALUE=DATE:20240528
DTEND;VALUE=DATE:20240529
DTSTAMP:20260424T220820
CREATED:20240527T215501Z
LAST-MODIFIED:20240527T215501Z
UID:254310-1716854400-1716940799@diocesisdeapartado.org
SUMMARY:Martes. 8° Semana del Tiempo Ordinario
DESCRIPTION:
URL:https://diocesisdeapartado.org/eventos/martes-8-semana-del-tiempo-ordinario/
END:VEVENT
BEGIN:VEVENT
DTSTART;VALUE=DATE:20240529
DTEND;VALUE=DATE:20240530
DTSTAMP:20260424T220820
CREATED:20240429T145822Z
LAST-MODIFIED:20240429T145822Z
UID:254197-1716940800-1717027199@diocesisdeapartado.org
SUMMARY:Santo del Día | Pablo VI
DESCRIPTION:
URL:https://diocesisdeapartado.org/eventos/santo-del-dia-pablo-vi/
END:VEVENT
BEGIN:VEVENT
DTSTART;VALUE=DATE:20240529
DTEND;VALUE=DATE:20240530
DTSTAMP:20260424T220820
CREATED:20240527T215641Z
LAST-MODIFIED:20240527T215641Z
UID:254312-1716940800-1717027199@diocesisdeapartado.org
SUMMARY:Miércoles. 8° Semana del Tiempo Ordinario
DESCRIPTION:
URL:https://diocesisdeapartado.org/eventos/miercoles-8-semana-del-tiempo-ordinario/
END:VEVENT
BEGIN:VEVENT
DTSTART;VALUE=DATE:20240530
DTEND;VALUE=DATE:20240531
DTSTAMP:20260424T220820
CREATED:20240429T145416Z
LAST-MODIFIED:20240429T145416Z
UID:254193-1717027200-1717113599@diocesisdeapartado.org
SUMMARY:Santo del Día | Juana de Arco
DESCRIPTION:
URL:https://diocesisdeapartado.org/eventos/santo-del-dia-juana-de-arco/
END:VEVENT
BEGIN:VEVENT
DTSTART;VALUE=DATE:20240530
DTEND;VALUE=DATE:20240531
DTSTAMP:20260424T220820
CREATED:20240527T215830Z
LAST-MODIFIED:20240527T215830Z
UID:254314-1717027200-1717113599@diocesisdeapartado.org
SUMMARY:Jueves. 8° Semana del Tiempo Ordinario
DESCRIPTION:
URL:https://diocesisdeapartado.org/eventos/jueves-8-semana-del-tiempo-ordinario/
END:VEVENT
BEGIN:VEVENT
DTSTART;VALUE=DATE:20240531
DTEND;VALUE=DATE:20240601
DTSTAMP:20260424T220820
CREATED:20240429T145512Z
LAST-MODIFIED:20240429T145512Z
UID:254195-1717113600-1717199999@diocesisdeapartado.org
SUMMARY:Santo del Día | Félix de Nicosia
DESCRIPTION:
URL:https://diocesisdeapartado.org/eventos/santo-del-dia-felix-de-nicosia/
END:VEVENT
BEGIN:VEVENT
DTSTART;VALUE=DATE:20240531
DTEND;VALUE=DATE:20240601
DTSTAMP:20260424T220820
CREATED:20240527T215927Z
LAST-MODIFIED:20240527T215927Z
UID:254316-1717113600-1717199999@diocesisdeapartado.org
SUMMARY:Viernes en la Fiesta de la Visitación de la Bienaventurada Virgen María
DESCRIPTION:
URL:https://diocesisdeapartado.org/eventos/viernes-en-la-fiesta-de-la-visitacion-de-la-bienaventurada-virgen-maria/
END:VEVENT
BEGIN:VEVENT
DTSTART;VALUE=DATE:20240601
DTEND;VALUE=DATE:20240602
DTSTAMP:20260424T220820
CREATED:20240528T133415Z
LAST-MODIFIED:20240528T133415Z
UID:254323-1717200000-1717286399@diocesisdeapartado.org
SUMMARY:Santo del Día | Justino de Roma
DESCRIPTION:
URL:https://diocesisdeapartado.org/eventos/santo-del-dia-justino-de-roma/
END:VEVENT
BEGIN:VEVENT
DTSTART;VALUE=DATE:20240601
DTEND;VALUE=DATE:20240602
DTSTAMP:20260424T220820
CREATED:20240613T211050Z
LAST-MODIFIED:20240613T211050Z
UID:254463-1717200000-1717286399@diocesisdeapartado.org
SUMMARY:Sábado. 8ᵃ Semana de Tiempo Ordinario
DESCRIPTION:
URL:https://diocesisdeapartado.org/eventos/sabado-8%e1%b5%83-semana-de-tiempo-ordinario/
END:VEVENT
BEGIN:VEVENT
DTSTART;VALUE=DATE:20240602
DTEND;VALUE=DATE:20240603
DTSTAMP:20260424T220820
CREATED:20240528T134027Z
LAST-MODIFIED:20240528T134027Z
UID:254355-1717286400-1717372799@diocesisdeapartado.org
SUMMARY:Santo del Día | San Eugenio I
DESCRIPTION:
URL:https://diocesisdeapartado.org/eventos/santo-del-dia-san-eugenio-i/
END:VEVENT
BEGIN:VEVENT
DTSTART;VALUE=DATE:20240602
DTEND;VALUE=DATE:20240603
DTSTAMP:20260424T220820
CREATED:20240613T211327Z
LAST-MODIFIED:20240613T211327Z
UID:254481-1717286400-1717372799@diocesisdeapartado.org
SUMMARY:Domingo en la Solemnidad del Cuerpo y la Sangre de Cristo
DESCRIPTION:
URL:https://diocesisdeapartado.org/eventos/domingo-en-la-solemnidad-del-cuerpo-y-la-sangre-de-cristo/
END:VEVENT
BEGIN:VEVENT
DTSTART;VALUE=DATE:20240603
DTEND;VALUE=DATE:20240604
DTSTAMP:20260424T220820
CREATED:20240528T134146Z
LAST-MODIFIED:20240528T134146Z
UID:254357-1717372800-1717459199@diocesisdeapartado.org
SUMMARY:Santo del Día | Santa Cleotilde
DESCRIPTION:
URL:https://diocesisdeapartado.org/eventos/santo-del-dia-santa-cleotilde/
END:VEVENT
BEGIN:VEVENT
DTSTART;VALUE=DATE:20240604
DTEND;VALUE=DATE:20240605
DTSTAMP:20260424T220820
CREATED:20240528T134301Z
LAST-MODIFIED:20240528T134301Z
UID:254359-1717459200-1717545599@diocesisdeapartado.org
SUMMARY:Santo del Día | Francisco Caracciolo
DESCRIPTION:
URL:https://diocesisdeapartado.org/eventos/santo-del-dia-francisco-caracciolo/
END:VEVENT
BEGIN:VEVENT
DTSTART;VALUE=DATE:20240604
DTEND;VALUE=DATE:20240605
DTSTAMP:20260424T220820
CREATED:20240613T211453Z
LAST-MODIFIED:20240613T211453Z
UID:254483-1717459200-1717545599@diocesisdeapartado.org
SUMMARY:Martes. 9ᵃ Semana del Tiempo Ordinario
DESCRIPTION:
URL:https://diocesisdeapartado.org/eventos/martes-9%e1%b5%83-semana-del-tiempo-ordinario/
END:VEVENT
BEGIN:VEVENT
DTSTART;VALUE=DATE:20240605
DTEND;VALUE=DATE:20240606
DTSTAMP:20260424T220820
CREATED:20240528T134814Z
LAST-MODIFIED:20240528T134814Z
UID:254361-1717545600-1717631999@diocesisdeapartado.org
SUMMARY:Santo del Día | San Bonifacio
DESCRIPTION:
URL:https://diocesisdeapartado.org/eventos/santo-del-dia-san-bonifacio/
END:VEVENT
BEGIN:VEVENT
DTSTART;VALUE=DATE:20240605
DTEND;VALUE=DATE:20240606
DTSTAMP:20260424T220820
CREATED:20240613T211614Z
LAST-MODIFIED:20240613T211614Z
UID:254485-1717545600-1717631999@diocesisdeapartado.org
SUMMARY:Miércoles. 9ᵃ Semana del Tiempo Ordinario
DESCRIPTION:
URL:https://diocesisdeapartado.org/eventos/miercoles-9%e1%b5%83-semana-del-tiempo-ordinario/
END:VEVENT
BEGIN:VEVENT
DTSTART;VALUE=DATE:20240606
DTEND;VALUE=DATE:20240607
DTSTAMP:20260424T220820
CREATED:20240528T135631Z
LAST-MODIFIED:20240528T135631Z
UID:254365-1717632000-1717718399@diocesisdeapartado.org
SUMMARY:Santo del Día | Norberto de Xanten
DESCRIPTION:
URL:https://diocesisdeapartado.org/eventos/santo-del-dia-norberto-de-xanten/
END:VEVENT
BEGIN:VEVENT
DTSTART;VALUE=DATE:20240606
DTEND;VALUE=DATE:20240607
DTSTAMP:20260424T220820
CREATED:20240613T211736Z
LAST-MODIFIED:20240613T211736Z
UID:254487-1717632000-1717718399@diocesisdeapartado.org
SUMMARY:Jueves en la Fiesta de Jesucristo\, Sumo y Eterno Sacerdote
DESCRIPTION:
URL:https://diocesisdeapartado.org/eventos/jueves-en-la-fiesta-de-jesucristo-sumo-y-eterno-sacerdote/
END:VEVENT
BEGIN:VEVENT
DTSTART;VALUE=DATE:20240607
DTEND;VALUE=DATE:20240608
DTSTAMP:20260424T220820
CREATED:20240528T135814Z
LAST-MODIFIED:20240528T135814Z
UID:254367-1717718400-1717804799@diocesisdeapartado.org
SUMMARY:Santo del Día | Antonio María Gianelli
DESCRIPTION:
URL:https://diocesisdeapartado.org/eventos/santo-del-dia-antonio-maria-gianelli/
END:VEVENT
BEGIN:VEVENT
DTSTART;VALUE=DATE:20240607
DTEND;VALUE=DATE:20240608
DTSTAMP:20260424T220820
CREATED:20240613T211858Z
LAST-MODIFIED:20240613T211858Z
UID:254489-1717718400-1717804799@diocesisdeapartado.org
SUMMARY:Viernes en la Solemnidad del Sagrado Corazón de Jesús
DESCRIPTION:
URL:https://diocesisdeapartado.org/eventos/viernes-en-la-solemnidad-del-sagrado-corazon-de-jesus/
END:VEVENT
BEGIN:VEVENT
DTSTART;VALUE=DATE:20240608
DTEND;VALUE=DATE:20240609
DTSTAMP:20260424T220820
CREATED:20240528T135913Z
LAST-MODIFIED:20240528T135913Z
UID:254369-1717804800-1717891199@diocesisdeapartado.org
SUMMARY:Santo del Día | Medardo de Noyon
DESCRIPTION:
URL:https://diocesisdeapartado.org/eventos/santo-del-dia-medardo-de-noyon/
END:VEVENT
BEGIN:VEVENT
DTSTART;VALUE=DATE:20240608
DTEND;VALUE=DATE:20240609
DTSTAMP:20260424T220820
CREATED:20240613T211945Z
LAST-MODIFIED:20240613T211945Z
UID:254491-1717804800-1717891199@diocesisdeapartado.org
SUMMARY:Sábado. 9ᵃ Semana del Tiempo Ordinario
DESCRIPTION:
URL:https://diocesisdeapartado.org/eventos/sabado-9%e1%b5%83-semana-del-tiempo-ordinario/
END:VEVENT
BEGIN:VEVENT
DTSTART;VALUE=DATE:20240609
DTEND;VALUE=DATE:20240610
DTSTAMP:20260424T220820
CREATED:20240528T140009Z
LAST-MODIFIED:20240528T140009Z
UID:254371-1717891200-1717977599@diocesisdeapartado.org
SUMMARY:Santo del Día | Efrén de Siria
DESCRIPTION:
URL:https://diocesisdeapartado.org/eventos/santo-del-dia-efren-de-siria/
END:VEVENT
BEGIN:VEVENT
DTSTART;VALUE=DATE:20240609
DTEND;VALUE=DATE:20240610
DTSTAMP:20260424T220820
CREATED:20240613T212243Z
LAST-MODIFIED:20240613T212243Z
UID:254493-1717891200-1717977599@diocesisdeapartado.org
SUMMARY:Domingo. 10ᵃ Semana del Tiempo Ordinario
DESCRIPTION:
URL:https://diocesisdeapartado.org/eventos/domingo-10%e1%b5%83-semana-del-tiempo-ordinario/
END:VEVENT
BEGIN:VEVENT
DTSTART;VALUE=DATE:20240610
DTEND;VALUE=DATE:20240611
DTSTAMP:20260424T220820
CREATED:20240528T140126Z
LAST-MODIFIED:20240528T140126Z
UID:254373-1717977600-1718063999@diocesisdeapartado.org
SUMMARY:Santo del Día | Landerico de París
DESCRIPTION:
URL:https://diocesisdeapartado.org/eventos/santo-del-dia-landerico-de-paris/
END:VEVENT
BEGIN:VEVENT
DTSTART;VALUE=DATE:20240610
DTEND;VALUE=DATE:20240611
DTSTAMP:20260424T220820
CREATED:20240613T212333Z
LAST-MODIFIED:20240613T212333Z
UID:254495-1717977600-1718063999@diocesisdeapartado.org
SUMMARY:Lunes. 10ᵃ Semana del Tiempo Ordinario
DESCRIPTION:
URL:https://diocesisdeapartado.org/eventos/lunes-10%e1%b5%83-semana-del-tiempo-ordinario/
END:VEVENT
BEGIN:VEVENT
DTSTART;VALUE=DATE:20240611
DTEND;VALUE=DATE:20240612
DTSTAMP:20260424T220820
CREATED:20240528T140251Z
LAST-MODIFIED:20240528T140251Z
UID:254375-1718064000-1718150399@diocesisdeapartado.org
SUMMARY:Santo del Día | Bernabé Apóstol
DESCRIPTION:
URL:https://diocesisdeapartado.org/eventos/santo-del-dia-bernabe-apostol/
END:VEVENT
END:VCALENDAR