BEGIN:VCALENDAR
VERSION:2.0
PRODID:-//Di&oacute;cesis Apartad&oacute; - ECPv6.15.19//NONSGML v1.0//EN
CALSCALE:GREGORIAN
METHOD:PUBLISH
X-ORIGINAL-URL:https://diocesisdeapartado.org
X-WR-CALDESC:Eventos para Di&oacute;cesis Apartad&oacute;
REFRESH-INTERVAL;VALUE=DURATION:PT1H
X-Robots-Tag:noindex
X-PUBLISHED-TTL:PT1H
BEGIN:VTIMEZONE
TZID:America/Bogota
BEGIN:STANDARD
TZOFFSETFROM:-0500
TZOFFSETTO:-0500
TZNAME:-05
DTSTART:20230101T000000
END:STANDARD
END:VTIMEZONE
BEGIN:VEVENT
DTSTART;VALUE=DATE:20240613
DTEND;VALUE=DATE:20240614
DTSTAMP:20260424T220906
CREATED:20240528T140526Z
LAST-MODIFIED:20240528T140526Z
UID:254379-1718236800-1718323199@diocesisdeapartado.org
SUMMARY:Santo del Día | Antonio de Padua
DESCRIPTION:
URL:https://diocesisdeapartado.org/eventos/santo-del-dia-antonio-de-padua/
END:VEVENT
BEGIN:VEVENT
DTSTART;VALUE=DATE:20240613
DTEND;VALUE=DATE:20240614
DTSTAMP:20260424T220906
CREATED:20240613T212817Z
LAST-MODIFIED:20240613T212817Z
UID:254504-1718236800-1718323199@diocesisdeapartado.org
SUMMARY:Jueves. 10ᵃ Semana de Tiempo Ordinario
DESCRIPTION:
URL:https://diocesisdeapartado.org/eventos/jueves-10%e1%b5%83-semana-de-tiempo-ordinario/
END:VEVENT
BEGIN:VEVENT
DTSTART;VALUE=DATE:20240614
DTEND;VALUE=DATE:20240615
DTSTAMP:20260424T220906
CREATED:20240528T140647Z
LAST-MODIFIED:20240528T140647Z
UID:254381-1718323200-1718409599@diocesisdeapartado.org
SUMMARY:Santo del Día | San Eliseo
DESCRIPTION:
URL:https://diocesisdeapartado.org/eventos/santo-del-dia-san-eliseo/
END:VEVENT
BEGIN:VEVENT
DTSTART;VALUE=DATE:20240614
DTEND;VALUE=DATE:20240615
DTSTAMP:20260424T220906
CREATED:20240613T212901Z
LAST-MODIFIED:20240613T212901Z
UID:254506-1718323200-1718409599@diocesisdeapartado.org
SUMMARY:Viernes. 10ᵃ Semana de Tiempo Ordinario
DESCRIPTION:
URL:https://diocesisdeapartado.org/eventos/viernes-10%e1%b5%83-semana-de-tiempo-ordinario/
END:VEVENT
BEGIN:VEVENT
DTSTART;VALUE=DATE:20240615
DTEND;VALUE=DATE:20240616
DTSTAMP:20260424T220906
CREATED:20240528T140740Z
LAST-MODIFIED:20240528T140740Z
UID:254383-1718409600-1718495999@diocesisdeapartado.org
SUMMARY:Santo del Día | Vito de Lucania
DESCRIPTION:
URL:https://diocesisdeapartado.org/eventos/santo-del-dia-vito-de-lucania/
END:VEVENT
BEGIN:VEVENT
DTSTART;VALUE=DATE:20240615
DTEND;VALUE=DATE:20240616
DTSTAMP:20260424T220906
CREATED:20240613T212937Z
LAST-MODIFIED:20240613T212937Z
UID:254508-1718409600-1718495999@diocesisdeapartado.org
SUMMARY:Sábado. 10ᵃ Semana de Tiempo Ordinario
DESCRIPTION:
URL:https://diocesisdeapartado.org/eventos/sabado-10%e1%b5%83-semana-de-tiempo-ordinario/
END:VEVENT
BEGIN:VEVENT
DTSTART;VALUE=DATE:20240616
DTEND;VALUE=DATE:20240617
DTSTAMP:20260424T220906
CREATED:20240528T140949Z
LAST-MODIFIED:20240528T140949Z
UID:254385-1718496000-1718582399@diocesisdeapartado.org
SUMMARY:Santo del Día | Santos Quirico y Julita
DESCRIPTION:
URL:https://diocesisdeapartado.org/eventos/santo-del-dia-santos-quirico-y-julita/
END:VEVENT
BEGIN:VEVENT
DTSTART;VALUE=DATE:20240616
DTEND;VALUE=DATE:20240617
DTSTAMP:20260424T220906
CREATED:20240613T213024Z
LAST-MODIFIED:20240613T213024Z
UID:254510-1718496000-1718582399@diocesisdeapartado.org
SUMMARY:Domingo. 11ᵃ Semana de Tiempo Ordinario
DESCRIPTION:
URL:https://diocesisdeapartado.org/eventos/domingo-11%e1%b5%83-semana-de-tiempo-ordinario/
END:VEVENT
BEGIN:VEVENT
DTSTART;VALUE=DATE:20240617
DTEND;VALUE=DATE:20240618
DTSTAMP:20260424T220906
CREATED:20240528T141106Z
LAST-MODIFIED:20240528T141106Z
UID:254387-1718582400-1718668799@diocesisdeapartado.org
SUMMARY:Santo del Día | Teresa de Portugal
DESCRIPTION:
URL:https://diocesisdeapartado.org/eventos/santo-del-dia-teresa-de-portugal/
END:VEVENT
BEGIN:VEVENT
DTSTART;VALUE=DATE:20240618
DTEND;VALUE=DATE:20240619
DTSTAMP:20260424T220906
CREATED:20240528T141212Z
LAST-MODIFIED:20240528T141212Z
UID:254389-1718668800-1718755199@diocesisdeapartado.org
SUMMARY:Santo del Día | Gregorio Barbarigo
DESCRIPTION:
URL:https://diocesisdeapartado.org/eventos/santo-del-dia-gregorio-barbarigo/
END:VEVENT
BEGIN:VEVENT
DTSTART;TZID=America/Bogota:20240618T180000
DTEND;TZID=America/Bogota:20240618T200000
DTSTAMP:20260424T220906
CREATED:20240613T213314Z
LAST-MODIFIED:20240613T213314Z
UID:254513-1718733600-1718740800@diocesisdeapartado.org
SUMMARY:Solemne Eucaristía; 36 años de la Diócesis de Apartadó
DESCRIPTION:
URL:https://diocesisdeapartado.org/eventos/solemne-eucaristia-36-anos-de-la-diocesis-de-apartado/
END:VEVENT
BEGIN:VEVENT
DTSTART;VALUE=DATE:20240619
DTEND;VALUE=DATE:20240620
DTSTAMP:20260424T220906
CREATED:20240528T141312Z
LAST-MODIFIED:20240528T141312Z
UID:254391-1718755200-1718841599@diocesisdeapartado.org
SUMMARY:Santo del Día | San Romualdo
DESCRIPTION:
URL:https://diocesisdeapartado.org/eventos/santo-del-dia-san-romualdo/
END:VEVENT
BEGIN:VEVENT
DTSTART;VALUE=DATE:20240620
DTEND;VALUE=DATE:20240621
DTSTAMP:20260424T220906
CREATED:20240528T141400Z
LAST-MODIFIED:20240528T141400Z
UID:254393-1718841600-1718927999@diocesisdeapartado.org
SUMMARY:Santo del Día | San Silverio
DESCRIPTION:
URL:https://diocesisdeapartado.org/eventos/santo-del-dia-san-silverio/
END:VEVENT
BEGIN:VEVENT
DTSTART;VALUE=DATE:20240621
DTEND;VALUE=DATE:20240622
DTSTAMP:20260424T220906
CREATED:20240528T141808Z
LAST-MODIFIED:20240528T141808Z
UID:254395-1718928000-1719014399@diocesisdeapartado.org
SUMMARY:Santo del Día | Luis Gonzaga
DESCRIPTION:
URL:https://diocesisdeapartado.org/eventos/santo-del-dia-luis-gonzaga/
END:VEVENT
BEGIN:VEVENT
DTSTART;VALUE=DATE:20240622
DTEND;VALUE=DATE:20240623
DTSTAMP:20260424T220906
CREATED:20240528T141920Z
LAST-MODIFIED:20240528T141936Z
UID:254397-1719014400-1719100799@diocesisdeapartado.org
SUMMARY:Santo del Día | Paulino de Nola
DESCRIPTION:
URL:https://diocesisdeapartado.org/eventos/santo-del-dia-paulino-de-nola/
END:VEVENT
BEGIN:VEVENT
DTSTART;VALUE=DATE:20240623
DTEND;VALUE=DATE:20240624
DTSTAMP:20260424T220906
CREATED:20240528T142023Z
LAST-MODIFIED:20240528T142023Z
UID:254399-1719100800-1719187199@diocesisdeapartado.org
SUMMARY:Santo del Día | José Caffaso
DESCRIPTION:
URL:https://diocesisdeapartado.org/eventos/santo-del-dia-jose-caffaso/
END:VEVENT
BEGIN:VEVENT
DTSTART;VALUE=DATE:20240624
DTEND;VALUE=DATE:20240625
DTSTAMP:20260424T220906
CREATED:20240528T142233Z
LAST-MODIFIED:20240528T142233Z
UID:254401-1719187200-1719273599@diocesisdeapartado.org
SUMMARY:Santo del Día | Natividad de San Juan Bautista
DESCRIPTION:
URL:https://diocesisdeapartado.org/eventos/santo-del-dia-natividad-de-san-juan-bautista/
END:VEVENT
BEGIN:VEVENT
DTSTART;VALUE=DATE:20240625
DTEND;VALUE=DATE:20240626
DTSTAMP:20260424T220906
CREATED:20240528T142332Z
LAST-MODIFIED:20240528T142332Z
UID:254403-1719273600-1719359999@diocesisdeapartado.org
SUMMARY:Santo del Día | San Guillermo
DESCRIPTION:
URL:https://diocesisdeapartado.org/eventos/santo-del-dia-san-guillermo/
END:VEVENT
BEGIN:VEVENT
DTSTART;VALUE=DATE:20240626
DTEND;VALUE=DATE:20240627
DTSTAMP:20260424T220906
CREATED:20240528T142428Z
LAST-MODIFIED:20240528T142428Z
UID:254405-1719360000-1719446399@diocesisdeapartado.org
SUMMARY:Santo del Día | Santos Juan y Pablo
DESCRIPTION:
URL:https://diocesisdeapartado.org/eventos/santo-del-dia-santos-juan-y-pablo/
END:VEVENT
BEGIN:VEVENT
DTSTART;VALUE=DATE:20240627
DTEND;VALUE=DATE:20240628
DTSTAMP:20260424T220906
CREATED:20240528T142516Z
LAST-MODIFIED:20240528T142516Z
UID:254407-1719446400-1719532799@diocesisdeapartado.org
SUMMARY:Santo del Día | Cirilo de Alejandría
DESCRIPTION:
URL:https://diocesisdeapartado.org/eventos/santo-del-dia-cirilo-de-alejandria/
END:VEVENT
BEGIN:VEVENT
DTSTART;VALUE=DATE:20240628
DTEND;VALUE=DATE:20240629
DTSTAMP:20260424T220906
CREATED:20240528T142636Z
LAST-MODIFIED:20240528T142636Z
UID:254409-1719532800-1719619199@diocesisdeapartado.org
SUMMARY:Santo del Día | Ireneo de Lyon
DESCRIPTION:
URL:https://diocesisdeapartado.org/eventos/santo-del-dia-ireneo-de-lyon/
END:VEVENT
BEGIN:VEVENT
DTSTART;VALUE=DATE:20240629
DTEND;VALUE=DATE:20240630
DTSTAMP:20260424T220906
CREATED:20240528T142803Z
LAST-MODIFIED:20240528T142803Z
UID:254411-1719619200-1719705599@diocesisdeapartado.org
SUMMARY:Santo del Día | San Pedro
DESCRIPTION:
URL:https://diocesisdeapartado.org/eventos/santo-del-dia-san-pedro/
END:VEVENT
BEGIN:VEVENT
DTSTART;VALUE=DATE:20240630
DTEND;VALUE=DATE:20240701
DTSTAMP:20260424T220906
CREATED:20240528T142923Z
LAST-MODIFIED:20240528T142923Z
UID:254414-1719705600-1719791999@diocesisdeapartado.org
SUMMARY:Santo del Día | Ladislao I de Hungría
DESCRIPTION:
URL:https://diocesisdeapartado.org/eventos/santo-del-dia-ladislao-i-de-hungria/
END:VEVENT
BEGIN:VEVENT
DTSTART;VALUE=DATE:20240701
DTEND;VALUE=DATE:20240702
DTSTAMP:20260424T220906
CREATED:20240702T192849Z
LAST-MODIFIED:20240702T192849Z
UID:254553-1719792000-1719878399@diocesisdeapartado.org
SUMMARY:Santo del Día | Aarón\, hermano de Moisés
DESCRIPTION:
URL:https://diocesisdeapartado.org/eventos/santo-del-dia-aaron-hermano-de-moises/
END:VEVENT
BEGIN:VEVENT
DTSTART;VALUE=DATE:20240701
DTEND;VALUE=DATE:20240702
DTSTAMP:20260424T220906
CREATED:20240702T201307Z
LAST-MODIFIED:20240702T201307Z
UID:254665-1719792000-1719878399@diocesisdeapartado.org
SUMMARY:Lunes 13ª Semana del Tiempo Ordinario
DESCRIPTION:
URL:https://diocesisdeapartado.org/eventos/lunes-13a-semana-del-tiempo-ordinario/
END:VEVENT
BEGIN:VEVENT
DTSTART;VALUE=DATE:20240702
DTEND;VALUE=DATE:20240703
DTSTAMP:20260424T220906
CREATED:20240702T192939Z
LAST-MODIFIED:20240702T193028Z
UID:254589-1719878400-1719964799@diocesisdeapartado.org
SUMMARY:Santo del Día | Proceso y Martiniano
DESCRIPTION:
URL:https://diocesisdeapartado.org/eventos/santo-del-dia-proceso-y-martiniano/
END:VEVENT
BEGIN:VEVENT
DTSTART;VALUE=DATE:20240702
DTEND;VALUE=DATE:20240703
DTSTAMP:20260424T220906
CREATED:20240702T201350Z
LAST-MODIFIED:20240702T201350Z
UID:254672-1719878400-1719964799@diocesisdeapartado.org
SUMMARY:Martes 13ª Semana del Tiempo Ordinario
DESCRIPTION:
URL:https://diocesisdeapartado.org/eventos/martes-13a-semana-del-tiempo-ordinario/
END:VEVENT
BEGIN:VEVENT
DTSTART;VALUE=DATE:20240703
DTEND;VALUE=DATE:20240704
DTSTAMP:20260424T220906
CREATED:20240702T193140Z
LAST-MODIFIED:20240702T193140Z
UID:254592-1719964800-1720051199@diocesisdeapartado.org
SUMMARY:Santo del Día | Tomás Apóstol
DESCRIPTION:
URL:https://diocesisdeapartado.org/eventos/santo-del-dia-tomas-apostol/
END:VEVENT
BEGIN:VEVENT
DTSTART;VALUE=DATE:20240703
DTEND;VALUE=DATE:20240704
DTSTAMP:20260424T220906
CREATED:20240702T201431Z
LAST-MODIFIED:20240702T201431Z
UID:254674-1719964800-1720051199@diocesisdeapartado.org
SUMMARY:Miércoles en la fiesta de Santo Tomás\, Apóstol
DESCRIPTION:
URL:https://diocesisdeapartado.org/eventos/miercoles-en-la-fiesta-de-santo-tomas-apostol/
END:VEVENT
BEGIN:VEVENT
DTSTART;VALUE=DATE:20240704
DTEND;VALUE=DATE:20240705
DTSTAMP:20260424T220906
CREATED:20240702T193252Z
LAST-MODIFIED:20240702T193252Z
UID:254597-1720051200-1720137599@diocesisdeapartado.org
SUMMARY:Santo del Día | Ulrico de Augsburgo
DESCRIPTION:
URL:https://diocesisdeapartado.org/eventos/santo-del-dia-ulrico-de-augsburgo/
END:VEVENT
END:VCALENDAR