BEGIN:VCALENDAR
VERSION:2.0
PRODID:-//Di&oacute;cesis Apartad&oacute; - ECPv6.15.19//NONSGML v1.0//EN
CALSCALE:GREGORIAN
METHOD:PUBLISH
X-ORIGINAL-URL:https://diocesisdeapartado.org
X-WR-CALDESC:Eventos para Di&oacute;cesis Apartad&oacute;
REFRESH-INTERVAL;VALUE=DURATION:PT1H
X-Robots-Tag:noindex
X-PUBLISHED-TTL:PT1H
BEGIN:VTIMEZONE
TZID:America/Bogota
BEGIN:STANDARD
TZOFFSETFROM:-0500
TZOFFSETTO:-0500
TZNAME:-05
DTSTART:20230101T000000
END:STANDARD
END:VTIMEZONE
BEGIN:VEVENT
DTSTART;VALUE=DATE:20240501
DTEND;VALUE=DATE:20240502
DTSTAMP:20260424T203136
CREATED:20240415T162146Z
LAST-MODIFIED:20240415T162147Z
UID:254009-1714521600-1714607999@diocesisdeapartado.org
SUMMARY:Miércoles. 5° Semana de Pascua
DESCRIPTION:
URL:https://diocesisdeapartado.org/eventos/miercoles-5-semana-de-pascua/
END:VEVENT
BEGIN:VEVENT
DTSTART;VALUE=DATE:20240501
DTEND;VALUE=DATE:20240502
DTSTAMP:20260424T203136
CREATED:20240429T141736Z
LAST-MODIFIED:20240429T141736Z
UID:254105-1714521600-1714607999@diocesisdeapartado.org
SUMMARY:Santo del Día | San José Obrero
DESCRIPTION:
URL:https://diocesisdeapartado.org/eventos/santo-del-dia-san-jose-obrero/
END:VEVENT
BEGIN:VEVENT
DTSTART;VALUE=DATE:20240502
DTEND;VALUE=DATE:20240503
DTSTAMP:20260424T203136
CREATED:20240415T162228Z
LAST-MODIFIED:20240415T162228Z
UID:254011-1714608000-1714694399@diocesisdeapartado.org
SUMMARY:Jueves. 5° Semana de Pascua
DESCRIPTION:
URL:https://diocesisdeapartado.org/eventos/jueves-5-semana-de-pascua/
END:VEVENT
BEGIN:VEVENT
DTSTART;VALUE=DATE:20240502
DTEND;VALUE=DATE:20240503
DTSTAMP:20260424T203136
CREATED:20240429T141911Z
LAST-MODIFIED:20240429T141911Z
UID:254138-1714608000-1714694399@diocesisdeapartado.org
SUMMARY:Santo del Día | Atanasio de Alejandría
DESCRIPTION:
URL:https://diocesisdeapartado.org/eventos/santo-del-dia-atanasio-de-alejandria/
END:VEVENT
BEGIN:VEVENT
DTSTART;VALUE=DATE:20240503
DTEND;VALUE=DATE:20240504
DTSTAMP:20260424T203136
CREATED:20240415T162334Z
LAST-MODIFIED:20240415T162334Z
UID:254013-1714694400-1714780799@diocesisdeapartado.org
SUMMARY:Viernes. Fiesta de la Exaltación de la Santa Cruz
DESCRIPTION:
URL:https://diocesisdeapartado.org/eventos/viernes-fiesta-de-la-exaltacion-de-la-santa-cruz/
END:VEVENT
BEGIN:VEVENT
DTSTART;VALUE=DATE:20240503
DTEND;VALUE=DATE:20240504
DTSTAMP:20260424T203136
CREATED:20240429T142020Z
LAST-MODIFIED:20240429T142020Z
UID:254140-1714694400-1714780799@diocesisdeapartado.org
SUMMARY:Santos del Día | Felipe y Santiago
DESCRIPTION:
URL:https://diocesisdeapartado.org/eventos/santos-del-dia-felipe-y-santiago/
END:VEVENT
BEGIN:VEVENT
DTSTART;VALUE=DATE:20240504
DTEND;VALUE=DATE:20240505
DTSTAMP:20260424T203136
CREATED:20240415T162424Z
LAST-MODIFIED:20240415T162424Z
UID:254016-1714780800-1714867199@diocesisdeapartado.org
SUMMARY:Sábado. 5° Semana de Pascua
DESCRIPTION:
URL:https://diocesisdeapartado.org/eventos/sabado-5-semana-de-pascua/
END:VEVENT
BEGIN:VEVENT
DTSTART;VALUE=DATE:20240504
DTEND;VALUE=DATE:20240505
DTSTAMP:20260424T203136
CREATED:20240429T142115Z
LAST-MODIFIED:20240429T142115Z
UID:254142-1714780800-1714867199@diocesisdeapartado.org
SUMMARY:Santo del Día | Antonina de Nicea
DESCRIPTION:
URL:https://diocesisdeapartado.org/eventos/santo-del-dia-antonina-de-nicea/
END:VEVENT
BEGIN:VEVENT
DTSTART;VALUE=DATE:20240505
DTEND;VALUE=DATE:20240506
DTSTAMP:20260424T203136
CREATED:20240415T162516Z
LAST-MODIFIED:20240415T162516Z
UID:254018-1714867200-1714953599@diocesisdeapartado.org
SUMMARY:Domingo. 6° Semana de Pascua
DESCRIPTION:
URL:https://diocesisdeapartado.org/eventos/domingo-6-semana-de-pascua/
END:VEVENT
BEGIN:VEVENT
DTSTART;VALUE=DATE:20240505
DTEND;VALUE=DATE:20240506
DTSTAMP:20260424T203136
CREATED:20240429T142241Z
LAST-MODIFIED:20240429T142241Z
UID:254144-1714867200-1714953599@diocesisdeapartado.org
SUMMARY:Santo del Día | Nunzio Sulprizio
DESCRIPTION:
URL:https://diocesisdeapartado.org/eventos/santo-del-dia-nunzio-sulprizio/
END:VEVENT
BEGIN:VEVENT
DTSTART;VALUE=DATE:20240506
DTEND;VALUE=DATE:20240507
DTSTAMP:20260424T203136
CREATED:20240415T162606Z
LAST-MODIFIED:20240415T162606Z
UID:254021-1714953600-1715039999@diocesisdeapartado.org
SUMMARY:Lunes. 6° Semana de Pascua
DESCRIPTION:
URL:https://diocesisdeapartado.org/eventos/lunes-6-semana-de-pascua/
END:VEVENT
BEGIN:VEVENT
DTSTART;VALUE=DATE:20240506
DTEND;VALUE=DATE:20240507
DTSTAMP:20260424T203136
CREATED:20240429T142333Z
LAST-MODIFIED:20240429T142333Z
UID:254146-1714953600-1715039999@diocesisdeapartado.org
SUMMARY:Santo del Día | Domingo Savio
DESCRIPTION:
URL:https://diocesisdeapartado.org/eventos/santo-del-dia-domingo-savio/
END:VEVENT
BEGIN:VEVENT
DTSTART;VALUE=DATE:20240507
DTEND;VALUE=DATE:20240508
DTSTAMP:20260424T203136
CREATED:20240415T162712Z
LAST-MODIFIED:20240415T162712Z
UID:254023-1715040000-1715126399@diocesisdeapartado.org
SUMMARY:Martes. 6° Semana de Pascua
DESCRIPTION:
URL:https://diocesisdeapartado.org/eventos/martes-6-semana-de-pascua/
END:VEVENT
BEGIN:VEVENT
DTSTART;VALUE=DATE:20240507
DTEND;VALUE=DATE:20240508
DTSTAMP:20260424T203136
CREATED:20240429T142502Z
LAST-MODIFIED:20240429T142502Z
UID:254148-1715040000-1715126399@diocesisdeapartado.org
SUMMARY:Santo del Día | Flavia Domitila
DESCRIPTION:
URL:https://diocesisdeapartado.org/eventos/santo-del-dia-flavia-domitila/
END:VEVENT
BEGIN:VEVENT
DTSTART;VALUE=DATE:20240508
DTEND;VALUE=DATE:20240509
DTSTAMP:20260424T203136
CREATED:20240415T162806Z
LAST-MODIFIED:20240415T162806Z
UID:254025-1715126400-1715212799@diocesisdeapartado.org
SUMMARY:Miércoles. 6° Semana de Pascua
DESCRIPTION:
URL:https://diocesisdeapartado.org/eventos/miercoles-6-semana-de-pascua/
END:VEVENT
BEGIN:VEVENT
DTSTART;VALUE=DATE:20240508
DTEND;VALUE=DATE:20240509
DTSTAMP:20260424T203136
CREATED:20240429T142612Z
LAST-MODIFIED:20240429T142612Z
UID:254150-1715126400-1715212799@diocesisdeapartado.org
SUMMARY:Santo del Día | Víctor de Mauritania
DESCRIPTION:
URL:https://diocesisdeapartado.org/eventos/santo-del-dia-victor-de-mauritania/
END:VEVENT
BEGIN:VEVENT
DTSTART;VALUE=DATE:20240509
DTEND;VALUE=DATE:20240510
DTSTAMP:20260424T203136
CREATED:20240415T162845Z
LAST-MODIFIED:20240415T162845Z
UID:254028-1715212800-1715299199@diocesisdeapartado.org
SUMMARY:Jueves. 6° Semana de Pascua
DESCRIPTION:
URL:https://diocesisdeapartado.org/eventos/jueves-6-semana-de-pascua/
END:VEVENT
BEGIN:VEVENT
DTSTART;VALUE=DATE:20240509
DTEND;VALUE=DATE:20240510
DTSTAMP:20260424T203136
CREATED:20240429T142703Z
LAST-MODIFIED:20240429T142703Z
UID:254152-1715212800-1715299199@diocesisdeapartado.org
SUMMARY:Santo del Día | San Isaías
DESCRIPTION:
URL:https://diocesisdeapartado.org/eventos/santo-del-dia-san-isaias/
END:VEVENT
BEGIN:VEVENT
DTSTART;VALUE=DATE:20240510
DTEND;VALUE=DATE:20240511
DTSTAMP:20260424T203136
CREATED:20240408T214146Z
LAST-MODIFIED:20240408T214146Z
UID:253882-1715299200-1715385599@diocesisdeapartado.org
SUMMARY:Profesión de fe y juramento con vísperas solemnes
DESCRIPTION:
URL:https://diocesisdeapartado.org/eventos/profesion-de-fe-y-juramento-con-visperas-solemnes/
END:VEVENT
BEGIN:VEVENT
DTSTART;VALUE=DATE:20240510
DTEND;VALUE=DATE:20240511
DTSTAMP:20260424T203136
CREATED:20240415T162933Z
LAST-MODIFIED:20240415T162933Z
UID:254030-1715299200-1715385599@diocesisdeapartado.org
SUMMARY:Viernes. 6° Semana de Pascua
DESCRIPTION:
URL:https://diocesisdeapartado.org/eventos/viernes-6-semana-de-pascua/
END:VEVENT
BEGIN:VEVENT
DTSTART;VALUE=DATE:20240510
DTEND;VALUE=DATE:20240511
DTSTAMP:20260424T203136
CREATED:20240429T142831Z
LAST-MODIFIED:20240429T142831Z
UID:254154-1715299200-1715385599@diocesisdeapartado.org
SUMMARY:Santo del Día | Juan de Ávila
DESCRIPTION:
URL:https://diocesisdeapartado.org/eventos/santo-del-dia-juan-de-avila/
END:VEVENT
BEGIN:VEVENT
DTSTART;VALUE=DATE:20240511
DTEND;VALUE=DATE:20240512
DTSTAMP:20260424T203136
CREATED:20240408T214436Z
LAST-MODIFIED:20240408T214436Z
UID:253886-1715385600-1715471999@diocesisdeapartado.org
SUMMARY:Posesión Canónica\, solemne Eucaristía.
DESCRIPTION:
URL:https://diocesisdeapartado.org/eventos/posesion-canonica-solemne-eucaristia/
END:VEVENT
BEGIN:VEVENT
DTSTART;VALUE=DATE:20240511
DTEND;VALUE=DATE:20240512
DTSTAMP:20260424T203136
CREATED:20240415T163053Z
LAST-MODIFIED:20240415T163053Z
UID:254032-1715385600-1715471999@diocesisdeapartado.org
SUMMARY:Sábado. 6° Semana de Pascua
DESCRIPTION:
URL:https://diocesisdeapartado.org/eventos/sabado-6-semana-de-pascua/
END:VEVENT
BEGIN:VEVENT
DTSTART;VALUE=DATE:20240511
DTEND;VALUE=DATE:20240512
DTSTAMP:20260424T203136
CREATED:20240429T142939Z
LAST-MODIFIED:20240429T142939Z
UID:254156-1715385600-1715471999@diocesisdeapartado.org
SUMMARY:Santo del Día | Antimo de Roma
DESCRIPTION:
URL:https://diocesisdeapartado.org/eventos/santo-del-dia-antimo-de-roma/
END:VEVENT
BEGIN:VEVENT
DTSTART;VALUE=DATE:20240512
DTEND;VALUE=DATE:20240513
DTSTAMP:20260424T203136
CREATED:20240415T163207Z
LAST-MODIFIED:20240415T163207Z
UID:254035-1715472000-1715558399@diocesisdeapartado.org
SUMMARY:Domingo. En la Ascensión del Señor
DESCRIPTION:
URL:https://diocesisdeapartado.org/eventos/domingo-en-la-ascension-del-senor/
END:VEVENT
BEGIN:VEVENT
DTSTART;VALUE=DATE:20240512
DTEND;VALUE=DATE:20240513
DTSTAMP:20260424T203136
CREATED:20240429T143108Z
LAST-MODIFIED:20240429T143108Z
UID:254158-1715472000-1715558399@diocesisdeapartado.org
SUMMARY:Santo del Día | Pancracio de Roma
DESCRIPTION:
URL:https://diocesisdeapartado.org/eventos/santo-del-dia-pancracio-de-roma/
END:VEVENT
BEGIN:VEVENT
DTSTART;VALUE=DATE:20240513
DTEND;VALUE=DATE:20240514
DTSTAMP:20260424T203136
CREATED:20240415T163250Z
LAST-MODIFIED:20240415T163250Z
UID:254037-1715558400-1715644799@diocesisdeapartado.org
SUMMARY:Lunes. 7° Semana de Pascua
DESCRIPTION:
URL:https://diocesisdeapartado.org/eventos/lunes-7-semana-de-pascua/
END:VEVENT
BEGIN:VEVENT
DTSTART;VALUE=DATE:20240513
DTEND;VALUE=DATE:20240514
DTSTAMP:20260424T203136
CREATED:20240429T143302Z
LAST-MODIFIED:20240429T143302Z
UID:254160-1715558400-1715644799@diocesisdeapartado.org
SUMMARY:Santo del Día | María Virgen de Fátima
DESCRIPTION:
URL:https://diocesisdeapartado.org/eventos/santo-del-dia-maria-virgen-de-fatima/
END:VEVENT
BEGIN:VEVENT
DTSTART;VALUE=DATE:20240514
DTEND;VALUE=DATE:20240515
DTSTAMP:20260424T203136
CREATED:20240415T163511Z
LAST-MODIFIED:20240415T163511Z
UID:254039-1715644800-1715731199@diocesisdeapartado.org
SUMMARY:Martes. En la Fiesta de San Matías\, apostol
DESCRIPTION:
URL:https://diocesisdeapartado.org/eventos/martes-en-la-fiesta-de-san-matias-apostol/
END:VEVENT
BEGIN:VEVENT
DTSTART;VALUE=DATE:20240514
DTEND;VALUE=DATE:20240515
DTSTAMP:20260424T203136
CREATED:20240429T143351Z
LAST-MODIFIED:20240429T143351Z
UID:254162-1715644800-1715731199@diocesisdeapartado.org
SUMMARY:Santo del Día | San Matías
DESCRIPTION:
URL:https://diocesisdeapartado.org/eventos/santo-del-dia-san-matias/
END:VEVENT
END:VCALENDAR