BEGIN:VCALENDAR
VERSION:2.0
PRODID:-//Di&oacute;cesis Apartad&oacute; - ECPv6.15.19//NONSGML v1.0//EN
CALSCALE:GREGORIAN
METHOD:PUBLISH
X-WR-CALNAME:Di&oacute;cesis Apartad&oacute;
X-ORIGINAL-URL:https://diocesisdeapartado.org
X-WR-CALDESC:Eventos para Di&oacute;cesis Apartad&oacute;
REFRESH-INTERVAL;VALUE=DURATION:PT1H
X-Robots-Tag:noindex
X-PUBLISHED-TTL:PT1H
BEGIN:VTIMEZONE
TZID:America/Bogota
BEGIN:STANDARD
TZOFFSETFROM:-0500
TZOFFSETTO:-0500
TZNAME:-05
DTSTART:20230101T000000
END:STANDARD
END:VTIMEZONE
BEGIN:VEVENT
DTSTART;VALUE=DATE:20240701
DTEND;VALUE=DATE:20240702
DTSTAMP:20260424T174129
CREATED:20240702T192849Z
LAST-MODIFIED:20240702T192849Z
UID:254553-1719792000-1719878399@diocesisdeapartado.org
SUMMARY:Santo del Día | Aarón\, hermano de Moisés
DESCRIPTION:
URL:https://diocesisdeapartado.org/eventos/santo-del-dia-aaron-hermano-de-moises/
END:VEVENT
BEGIN:VEVENT
DTSTART;VALUE=DATE:20240701
DTEND;VALUE=DATE:20240702
DTSTAMP:20260424T174129
CREATED:20240702T201307Z
LAST-MODIFIED:20240702T201307Z
UID:254665-1719792000-1719878399@diocesisdeapartado.org
SUMMARY:Lunes 13ª Semana del Tiempo Ordinario
DESCRIPTION:
URL:https://diocesisdeapartado.org/eventos/lunes-13a-semana-del-tiempo-ordinario/
END:VEVENT
BEGIN:VEVENT
DTSTART;VALUE=DATE:20240702
DTEND;VALUE=DATE:20240703
DTSTAMP:20260424T174129
CREATED:20240702T192939Z
LAST-MODIFIED:20240702T193028Z
UID:254589-1719878400-1719964799@diocesisdeapartado.org
SUMMARY:Santo del Día | Proceso y Martiniano
DESCRIPTION:
URL:https://diocesisdeapartado.org/eventos/santo-del-dia-proceso-y-martiniano/
END:VEVENT
BEGIN:VEVENT
DTSTART;VALUE=DATE:20240702
DTEND;VALUE=DATE:20240703
DTSTAMP:20260424T174129
CREATED:20240702T201350Z
LAST-MODIFIED:20240702T201350Z
UID:254672-1719878400-1719964799@diocesisdeapartado.org
SUMMARY:Martes 13ª Semana del Tiempo Ordinario
DESCRIPTION:
URL:https://diocesisdeapartado.org/eventos/martes-13a-semana-del-tiempo-ordinario/
END:VEVENT
BEGIN:VEVENT
DTSTART;VALUE=DATE:20240703
DTEND;VALUE=DATE:20240704
DTSTAMP:20260424T174129
CREATED:20240702T193140Z
LAST-MODIFIED:20240702T193140Z
UID:254592-1719964800-1720051199@diocesisdeapartado.org
SUMMARY:Santo del Día | Tomás Apóstol
DESCRIPTION:
URL:https://diocesisdeapartado.org/eventos/santo-del-dia-tomas-apostol/
END:VEVENT
BEGIN:VEVENT
DTSTART;VALUE=DATE:20240703
DTEND;VALUE=DATE:20240704
DTSTAMP:20260424T174129
CREATED:20240702T201431Z
LAST-MODIFIED:20240702T201431Z
UID:254674-1719964800-1720051199@diocesisdeapartado.org
SUMMARY:Miércoles en la fiesta de Santo Tomás\, Apóstol
DESCRIPTION:
URL:https://diocesisdeapartado.org/eventos/miercoles-en-la-fiesta-de-santo-tomas-apostol/
END:VEVENT
BEGIN:VEVENT
DTSTART;VALUE=DATE:20240704
DTEND;VALUE=DATE:20240705
DTSTAMP:20260424T174129
CREATED:20240702T193252Z
LAST-MODIFIED:20240702T193252Z
UID:254597-1720051200-1720137599@diocesisdeapartado.org
SUMMARY:Santo del Día | Ulrico de Augsburgo
DESCRIPTION:
URL:https://diocesisdeapartado.org/eventos/santo-del-dia-ulrico-de-augsburgo/
END:VEVENT
BEGIN:VEVENT
DTSTART;VALUE=DATE:20240704
DTEND;VALUE=DATE:20240705
DTSTAMP:20260424T174129
CREATED:20240702T201503Z
LAST-MODIFIED:20240702T201503Z
UID:254676-1720051200-1720137599@diocesisdeapartado.org
SUMMARY:Jueves 13ª Semana del Tiempo Ordinario
DESCRIPTION:
URL:https://diocesisdeapartado.org/eventos/jueves-13a-semana-del-tiempo-ordinario/
END:VEVENT
BEGIN:VEVENT
DTSTART;VALUE=DATE:20240705
DTEND;VALUE=DATE:20240706
DTSTAMP:20260424T174129
CREATED:20240702T193733Z
LAST-MODIFIED:20240702T193733Z
UID:254601-1720137600-1720223999@diocesisdeapartado.org
SUMMARY:Santo del Día | Antonio María Zacarías
DESCRIPTION:
URL:https://diocesisdeapartado.org/eventos/santo-del-dia-antonio-maria-zacarias/
END:VEVENT
BEGIN:VEVENT
DTSTART;VALUE=DATE:20240705
DTEND;VALUE=DATE:20240706
DTSTAMP:20260424T174129
CREATED:20240702T201535Z
LAST-MODIFIED:20240702T201536Z
UID:254678-1720137600-1720223999@diocesisdeapartado.org
SUMMARY:Viernes 13ª Semana del Tiempo Ordinario
DESCRIPTION:
URL:https://diocesisdeapartado.org/eventos/viernes-13a-semana-del-tiempo-ordinario/
END:VEVENT
BEGIN:VEVENT
DTSTART;VALUE=DATE:20240706
DTEND;VALUE=DATE:20240707
DTSTAMP:20260424T174129
CREATED:20240702T193837Z
LAST-MODIFIED:20240702T193837Z
UID:254605-1720224000-1720310399@diocesisdeapartado.org
SUMMARY:Santo del Día | María Goretti
DESCRIPTION:
URL:https://diocesisdeapartado.org/eventos/santo-del-dia-maria-goretti/
END:VEVENT
BEGIN:VEVENT
DTSTART;VALUE=DATE:20240707
DTEND;VALUE=DATE:20240708
DTSTAMP:20260424T174129
CREATED:20240702T193925Z
LAST-MODIFIED:20240702T193925Z
UID:254607-1720310400-1720396799@diocesisdeapartado.org
SUMMARY:Santo del Día | Fermín de Samiens
DESCRIPTION:
URL:https://diocesisdeapartado.org/eventos/santo-del-dia-fermin-de-samiens/
END:VEVENT
BEGIN:VEVENT
DTSTART;VALUE=DATE:20240708
DTEND;VALUE=DATE:20240709
DTSTAMP:20260424T174129
CREATED:20240702T194004Z
LAST-MODIFIED:20240702T194004Z
UID:254609-1720396800-1720483199@diocesisdeapartado.org
SUMMARY:Santo del Día | Eugenio III
DESCRIPTION:
URL:https://diocesisdeapartado.org/eventos/santo-del-dia-eugenio-iii/
END:VEVENT
BEGIN:VEVENT
DTSTART;VALUE=DATE:20240709
DTEND;VALUE=DATE:20240710
DTSTAMP:20260424T174129
CREATED:20240702T194110Z
LAST-MODIFIED:20240702T194110Z
UID:254611-1720483200-1720569599@diocesisdeapartado.org
SUMMARY:Santo del Día | Adriano III
DESCRIPTION:
URL:https://diocesisdeapartado.org/eventos/santo-del-dia-adriano-iii/
END:VEVENT
BEGIN:VEVENT
DTSTART;VALUE=DATE:20240710
DTEND;VALUE=DATE:20240711
DTSTAMP:20260424T174129
CREATED:20240702T194153Z
LAST-MODIFIED:20240702T194153Z
UID:254613-1720569600-1720655999@diocesisdeapartado.org
SUMMARY:Santo del Día | Anatolia y Victoria
DESCRIPTION:
URL:https://diocesisdeapartado.org/eventos/santo-del-dia-anatolia-y-victoria/
END:VEVENT
BEGIN:VEVENT
DTSTART;VALUE=DATE:20240711
DTEND;VALUE=DATE:20240712
DTSTAMP:20260424T174129
CREATED:20240702T194303Z
LAST-MODIFIED:20240702T194303Z
UID:254615-1720656000-1720742399@diocesisdeapartado.org
SUMMARY:Santo del Día | Pio I
DESCRIPTION:
URL:https://diocesisdeapartado.org/eventos/santo-del-dia-pio-i/
END:VEVENT
BEGIN:VEVENT
DTSTART;VALUE=DATE:20240712
DTEND;VALUE=DATE:20240713
DTSTAMP:20260424T174129
CREATED:20240702T194339Z
LAST-MODIFIED:20240702T194339Z
UID:254617-1720742400-1720828799@diocesisdeapartado.org
SUMMARY:Santo del Día | Juan Gualberto
DESCRIPTION:
URL:https://diocesisdeapartado.org/eventos/santo-del-dia-juan-gualberto/
END:VEVENT
BEGIN:VEVENT
DTSTART;VALUE=DATE:20240713
DTEND;VALUE=DATE:20240714
DTSTAMP:20260424T174129
CREATED:20240702T194419Z
LAST-MODIFIED:20240702T194419Z
UID:254619-1720828800-1720915199@diocesisdeapartado.org
SUMMARY:Santo del Día | San Esdras
DESCRIPTION:
URL:https://diocesisdeapartado.org/eventos/santo-del-dia-san-esdras/
END:VEVENT
BEGIN:VEVENT
DTSTART;VALUE=DATE:20240713
DTEND;VALUE=DATE:20240714
DTSTAMP:20260424T174129
CREATED:20240702T211104Z
LAST-MODIFIED:20240702T211104Z
UID:254683-1720828800-1720915199@diocesisdeapartado.org
SUMMARY:Día de la Familia con los Migrantes
DESCRIPTION:
URL:https://diocesisdeapartado.org/eventos/dia-de-la-familia-con-los-migrantes/
END:VEVENT
BEGIN:VEVENT
DTSTART;VALUE=DATE:20240714
DTEND;VALUE=DATE:20240715
DTSTAMP:20260424T174129
CREATED:20240702T195011Z
LAST-MODIFIED:20240702T195011Z
UID:254624-1720915200-1721001599@diocesisdeapartado.org
SUMMARY:Santo del Día | Camilo de Lellis
DESCRIPTION:
URL:https://diocesisdeapartado.org/eventos/santo-del-dia-camilo-de-lellis/
END:VEVENT
BEGIN:VEVENT
DTSTART;VALUE=DATE:20240715
DTEND;VALUE=DATE:20240716
DTSTAMP:20260424T174129
CREATED:20240702T195119Z
LAST-MODIFIED:20240702T195119Z
UID:254628-1721001600-1721087999@diocesisdeapartado.org
SUMMARY:Santo del Día | Buenaventura de Bagnoregio
DESCRIPTION:
URL:https://diocesisdeapartado.org/eventos/santo-del-dia-buenaventura-de-bagnoregio/
END:VEVENT
BEGIN:VEVENT
DTSTART;VALUE=DATE:20240716
DTEND;VALUE=DATE:20240717
DTSTAMP:20260424T174129
CREATED:20240702T195237Z
LAST-MODIFIED:20240702T195237Z
UID:254630-1721088000-1721174399@diocesisdeapartado.org
SUMMARY:Santo del Día | María Magdalena Postel
DESCRIPTION:
URL:https://diocesisdeapartado.org/eventos/santo-del-dia-maria-magdalena-postel/
END:VEVENT
BEGIN:VEVENT
DTSTART;VALUE=DATE:20240717
DTEND;VALUE=DATE:20240718
DTSTAMP:20260424T174129
CREATED:20240702T195403Z
LAST-MODIFIED:20240702T195403Z
UID:254635-1721174400-1721260799@diocesisdeapartado.org
SUMMARY:Santo del Día | Santa Marcelina
DESCRIPTION:
URL:https://diocesisdeapartado.org/eventos/santo-del-dia-santa-marcelina/
END:VEVENT
BEGIN:VEVENT
DTSTART;VALUE=DATE:20240718
DTEND;VALUE=DATE:20240719
DTSTAMP:20260424T174129
CREATED:20240702T195444Z
LAST-MODIFIED:20240702T195444Z
UID:254637-1721260800-1721347199@diocesisdeapartado.org
SUMMARY:Santo del Día | Bruno de Segni
DESCRIPTION:
URL:https://diocesisdeapartado.org/eventos/santo-del-dia-bruno-de-segni/
END:VEVENT
BEGIN:VEVENT
DTSTART;VALUE=DATE:20240719
DTEND;VALUE=DATE:20240720
DTSTAMP:20260424T174129
CREATED:20240702T195548Z
LAST-MODIFIED:20240702T195548Z
UID:254639-1721347200-1721433599@diocesisdeapartado.org
SUMMARY:Santo del Día | San Símaco
DESCRIPTION:
URL:https://diocesisdeapartado.org/eventos/santo-del-dia-san-simaco/
END:VEVENT
BEGIN:VEVENT
DTSTART;VALUE=DATE:20240720
DTEND;VALUE=DATE:20240721
DTSTAMP:20260424T174129
CREATED:20240702T195630Z
LAST-MODIFIED:20240702T195630Z
UID:254641-1721433600-1721519999@diocesisdeapartado.org
SUMMARY:Santo del Día | Apolinar de Rávena
DESCRIPTION:
URL:https://diocesisdeapartado.org/eventos/santo-del-dia-apolinar-de-ravena/
END:VEVENT
BEGIN:VEVENT
DTSTART;VALUE=DATE:20240721
DTEND;VALUE=DATE:20240722
DTSTAMP:20260424T174129
CREATED:20240702T195716Z
LAST-MODIFIED:20240702T195716Z
UID:254643-1721520000-1721606399@diocesisdeapartado.org
SUMMARY:Santo del Día | Ezequiel Profeta
DESCRIPTION:
URL:https://diocesisdeapartado.org/eventos/santo-del-dia-ezequiel-profeta/
END:VEVENT
BEGIN:VEVENT
DTSTART;VALUE=DATE:20240722
DTEND;VALUE=DATE:20240723
DTSTAMP:20260424T174129
CREATED:20240702T195820Z
LAST-MODIFIED:20240702T195820Z
UID:254645-1721606400-1721692799@diocesisdeapartado.org
SUMMARY:Santo del Día | María Magdalena
DESCRIPTION:
URL:https://diocesisdeapartado.org/eventos/santo-del-dia-maria-magdalena/
END:VEVENT
BEGIN:VEVENT
DTSTART;VALUE=DATE:20240723
DTEND;VALUE=DATE:20240724
DTSTAMP:20260424T174129
CREATED:20240702T195900Z
LAST-MODIFIED:20240702T195900Z
UID:254647-1721692800-1721779199@diocesisdeapartado.org
SUMMARY:Santo del Día | Brígida de Suecia
DESCRIPTION:
URL:https://diocesisdeapartado.org/eventos/santo-del-dia-brigida-de-suecia/
END:VEVENT
BEGIN:VEVENT
DTSTART;VALUE=DATE:20240724
DTEND;VALUE=DATE:20240725
DTSTAMP:20260424T174129
CREATED:20240702T195953Z
LAST-MODIFIED:20240702T195953Z
UID:254649-1721779200-1721865599@diocesisdeapartado.org
SUMMARY:Santo del Día | Cristina de Bolsena
DESCRIPTION:
URL:https://diocesisdeapartado.org/eventos/santo-del-dia-cristina-de-bolsena/
END:VEVENT
END:VCALENDAR